Workbook

Sheet Jan
B1: MONTHLY | C1: CLIMATOLOGICAL | D1: SUMMARY | E1: for | F1: JAN. | G1: 2026
A3: NAME: | B3: Penallt210 | C3: CITY: | D3: Penallt | E3: STATE:
A4: ELEV: | B4: 210 | C4: m | D4: LAT: | E4: 51° | F4: 48' | G4: 00" | H4: N | I4: LONG: | J4: 2° | K4: 42' | L4: 00" | M4: W
B6: TEMPERATURE | C6: (°C), | D6: RAIN | E6: (mm), | F6: WIND | G6: SPEED | H6: (m/s)
B8: HEAT | C8: COOL | D8: AVG
B9: MEAN | C9: DEG | D9: DEG | E9: WIND | F9: DOM
A10: DAY | B10: TEMP | C10: HIGH | D10: TIME | E10: LOW | F10: TIME | G10: DAYS | H10: DAYS | I10: RAIN | J10: SPEED | K10: HIGH | L10: TIME | M10: DIR
A11: ------------------------------------------------------------------------------------
A12: 1 | B12: 3.4 | C12: 5.9 | D12: 0.5625 | E12: 1 | F12: 0.020833333 | G12: 14.9 | H12: 0 | I12: 0 | J12: 0.4 | K12: 5.8 | L12: 0.125 | M12: SE
A13: 2 | B13: 1.6 | C13: 3.9 | D13: 0.1875 | E13: -0.3 | F13: 0.8125 | G13: 16.7 | H13: 0 | I13: 2 | J13: 0.2 | K13: 4.9 | L13: 0.20833333 | M13: N
A14: 3 | B14: 0.4 | C14: 2.4 | D14: 0.54166667 | E14: -2.3 | F14: 0 | G14: 17.9 | H14: 0 | I14: 0 | J14: 0.2 | K14: 5.8 | L14: 0.16666667 | M14: N
A15: 4 | B15: -0.9 | C15: 2.8 | D15: 0.58333333 | E15: -3.5 | F15: 0.29166667 | G15: 19.2 | H15: 0 | I15: 0 | J15: 0 | K15: 1.8 | L15: 0.5625 | M15: SW
A16: 5 | B16: -1.1 | C16: 1.3 | D16: 0.5625 | E16: -2.9 | F16: 0.29166667 | G16: 19.3 | H16: 0 | I16: 0 | J16: 0 | K16: 4.9 | L16: 0.66666667 | M16: W
A17: 6 | B17: 1.4 | C17: 4.8 | D17: 0.5625 | E17: -3.2 | F17: 0.0625 | G17: 16.9 | H17: 0 | I17: 2.8 | J17: 0.4 | K17: 5.4 | L17: 0.72916667 | M17: SE
A18: 7 | B18: 3.4 | C18: 5.2 | D18: 0.5 | E18: 1.9 | F18: 0.25 | G18: 14.8 | H18: 0 | I18: 0.8 | J18: 0.3 | K18: 4 | L18: 0.39583333 | M18: NW
A19: 8 | B19: 2.8 | C19: 4.7 | D19: 0.47916667 | E19: -0.1 | F19: 0 | G19: 15.4 | H19: 0 | I19: 23.2 | J19: 0.7 | K19: 8.9 | L19: 0.97916667 | M19: N
A20: 9 | B20: 2.2 | C20: 4 | D20: 0.5625 | E20: -0.1 | F20: 0.020833333 | G20: 16.1 | H20: 0 | I20: 6 | J20: 0.6 | K20: 7.6 | L20: 0.29166667 | M20: NW
A21: 10 | B21: 1.1 | C21: 3.7 | D21: 0.54166667 | E21: -1.3 | F21: 0.375 | G21: 17.2 | H21: 0 | I21: 0 | J21: 0 | K21: 1.8 | L21: 0.5 | M21: SSW
A22: 11 | B22: 6.2 | C22: 10.6 | D22: 0.875 | E22: 1.2 | F22: 0.041666667 | G22: 12.1 | H22: 0 | I22: 19.6 | J22: 2 | K22: 11.2 | L22: 0.75 | M22: SE
A23: 12 | B23: 8.6 | C23: 9.6 | D23: 0.54166667 | E23: 7.2 | F23: 0 | G23: 9.8 | H23: 0 | I23: 2.8 | J23: 0.9 | K23: 7.2 | L23: 0.25 | M23: SE
... A42: 31 | B42: 5.8 | C42: 8.2 | D42: 0.58333333 | E42: 4.6 | F42: 0.89583333 | G42: 12.5 | H42: 0 | I42: 4.2 | J42: 0.7 | K42: 7.6 | L42: 0.083333333 | M42: SE
A43: -------------------------------------------------------------------------------------
B44: 4.3 | C44: 10.6 | D44: 11 | E44: -3.5 | F44: 4 | G44: 434.1 | H44: 0 | I44: 238.9 | J44: 0.7 | K44: 11.2 | L44: 11 | M44: SE
B46: =AVERAGE(B12:B42) -> 4.2967742 | C46: =AVERAGE(C12:C42) -> 6.3612903 | E46: =AVERAGE(E12:E42) -> 2 | I46: =SUM(I12:I42) -> 239
A48: Max | B48: >= | C48: 32.0: | D48: 0
A49: Max | B49: <= | C49: 0.0: | D49: 0
A50: Min | B50: <= | C50: 0.0: | D50: 9
A51: Min | B51: <= | C51: -18.0: | D51: 0
A52: Max | B52: Rain: | C52: 42.39 | D52: ON | E52: 46049
A53: Days | B53: of | C53: Rain: | D53: 26 | E53: (> | F53: 0.2 | G53: mm) | H53: 23 | I53: (> | J53: 2 | K53: mm) | L53: 3 | M53: (> | N53: 20 | O53: mm)
A54: Heat | B54: Base: | C54: 18.3 | D54: Cool | E54: Base: | F54: 18.3 | G54: Method: | H54: Integration

Sheet Feb
B1: MONTHLY | C1: CLIMATOLOGICAL | D1: SUMMARY | E1: for | F1: FEB. | G1: 2026
A3: NAME: | B3: Penallt210 | C3: CITY: | D3: Penallt | E3: STATE:
A4: ELEV: | B4: 210 | C4: m | D4: LAT: | E4: 51° | F4: 48' | G4: 00" | H4: N | I4: LONG: | J4: 2° | K4: 42' | L4: 00" | M4: W
B6: TEMPERATURE | C6: (°C), | D6: RAIN | E6: (mm), | F6: WIND | G6: SPEED | H6: (m/s)
B8: HEAT | C8: COOL | D8: AVG
B9: MEAN | C9: DEG | D9: DEG | E9: WIND | F9: DOM
A10: DAY | B10: TEMP | C10: HIGH | D10: TIME | E10: LOW | F10: TIME | G10: DAYS | H10: DAYS | I10: RAIN | J10: SPEED | K10: HIGH | L10: TIME | M10: DIR
A11: ------------------------------------------------------------------------------------
A12: 1 | B12: 5.9 | C12: 7.7 | D12: 0.47916667 | E12: 4.7 | F12: 0.8125 | G12: 12.3 | H12: 0 | I12: 2.8 | J12: 0 | K12: 2.2 | L12: 0.6875 | M12: SE
A13: 2 | B13: 5.7 | C13: 6.6 | D13: 0.60416667 | E13: 4.6 | F13: 0.27083333 | G13: 12.6 | H13: 0 | I13: 0.2 | J13: 0.8 | K13: 7.6 | L13: 0.64583333 | M13: N
A14: 3 | B14: 3.1 | C14: 5 | D14: 0.020833333 | E14: 1.2 | F14: 0.89583333 | G14: 15.2 | H14: 0 | I14: 12.4 | J14: 0.9 | K14: 6.7 | L14: 0.020833333 | M14: N
A15: 4 | B15: 5.1 | C15: 8.1 | D15: 0.58333333 | E15: 1.2 | F15: 0.0625 | G15: 13.3 | H15: 0 | I15: 0.4 | J15: 0.7 | K15: 8 | L15: 0.95833333 | M15: NNW
A16: 5 | B16: 5.9 | C16: 6.6 | D16: 0.89583333 | E16: 4.9 | F16: 0.27083333 | G16: 12.4 | H16: 0 | I16: 24.2 | J16: 1.2 | K16: 8 | L16: 0.22916667 | M16: NNW
A17: 6 | B17: 7.2 | C17: 8.3 | D17: 0.60416667 | E17: 6.2 | F17: 0 | G17: 11.1 | H17: 0 | I17: 19 | J17: 0.2 | K17: 4.5 | L17: 0.16666667 | M17: SE
A18: 7 | B18: 7.4 | C18: 8.9 | D18: 0.60416667 | E18: 5.9 | F18: 0.083333333 | G18: 10.9 | H18: 0 | I18: 23.8 | J18: 1 | K18: 5.8 | L18: 0.8125 | M18: SE
A19: 8 | B19: 6.9 | C19: 8.4 | D19: 0.52083333 | E19: 5.9 | F19: 0.25 | G19: 11.4 | H19: 0 | I19: 1.4 | J19: 0.7 | K19: 4.5 | L19: 0.083333333 | M19: SE
A20: 9 | B20: 7.2 | C20: 8.5 | D20: 0.625 | E20: 6.3 | F20: 0.91666667 | G20: 11.1 | H20: 0 | I20: 8.4 | J20: 1.2 | K20: 7.6 | L20: 0.72916667 | M20: SE
A21: 10 | B21: 7.8 | C21: 9.2 | D21: 0.9375 | E21: 6.6 | F21: 0.020833333 | G21: 10.5 | H21: 0 | I21: 7.4 | J21: 0.4 | K21: 4 | L21: 0.27083333 | M21: SE
A22: 11 | B22: 8.3 | C22: 10.6 | D22: 0.625 | E22: 4.4 | F22: 0.95833333 | G22: 10 | H22: 0 | I22: 1.6 | J22: 0.3 | K22: 6.3 | L22: 0.52083333 | M22: SE
A23: 12 | B23: 6.8 | C23: 8.7 | D23: 0.625 | E23: 4.3 | F23: 0.041666667 | G23: 11.5 | H23: 0 | I23: 7 | J23: 0.1 | K23: 4.5 | L23: 0.5625 | M23: SE
... A39: 28 | B39: 6.1 | C39: 9.7 | D39: 0.52083333 | E39: 4.2 | F39: 0.8125 | G39: 12.2 | H39: 0 | I39: 0.4 | J39: 0.4 | K39: 5.4 | L39: 0.0625 | M39: SE
A40: -------------------------------------------------------------------------------------
B41: 6.5 | C41: 13.7 | D41: 25 | E41: -1.4 | F41: 14 | G41: 330.6 | H41: 0 | I41: 214.8 | J41: 0.7 | K41: 8.5 | L41: 13 | M41: SE
B46: =AVERAGE(B12:B39) -> 6.5071429 | C46: =AVERAGE(C12:C39) -> 8.7964286 | E46: =AVERAGE(E12:E39) -> 4.3678571 | I46: =SUM(I12:I39) -> 214.8
A48: Max | B48: >= | C48: 32.0: | D48: 0
A49: Max | B49: <= | C49: 0.0: | D49: 0
A50: Min | B50: <= | C50: 0.0: | D50: 1
A51: Min | B51: <= | C51: -18.0: | D51: 0
A52: Max | B52: Rain: | C52: 24.21 | D52: ON | E52: 46058
A53: Days | B53: of | C53: Rain: | D53: 26 | E53: (> | F53: 0.2 | G53: mm) | H53: 16 | I53: (> | J53: 2 | K53: mm) | L53: 4 | M53: (> | N53: 20 | O53: mm)
A54: Heat | B54: Base: | C54: 18.3 | D54: Cool | E54: Base: | F54: 18.3 | G54: Method: | H54: Integration

Sheet Mar
B1: MONTHLY | C1: CLIMATOLOGICAL | D1: SUMMARY | E1: for | F1: MAR. | G1: 2026
A3: NAME: | B3: Penallt210 | C3: CITY: | D3: Penallt | E3: STATE:
A4: ELEV: | B4: 210 | C4: m | D4: LAT: | E4: 51ｰ | F4: 48' | G4: 00" | H4: N | I4: LONG: | J4: 2ｰ | K4: 42' | L4: 00" | M4: W
B6: TEMPERATURE | C6: (ｰC), | D6: RAIN | E6: (mm), | F6: WIND | G6: SPEED | H6: (m/s)
B8: HEAT | C8: COOL | D8: AVG
B9: MEAN | C9: DEG | D9: DEG | E9: WIND | F9: DOM
A10: DAY | B10: TEMP | C10: HIGH | D10: TIME | E10: LOW | F10: TIME | G10: DAYS | H10: DAYS | I10: RAIN | J10: SPEED | K10: HIGH | L10: TIME | M10: DIR
A11: ------------------------------------------------------------------------------------
A12: 1 | B12: 8.8 | C12: 11.9 | D12: 0.5625 | E12: 5.4 | F12: 0.020833333 | G12: 9.5 | H12: 0 | I12: 3.4 | J12: 1.5 | K12: 8 | L12: 0.77083333 | M12: SE
A13: 2 | B13: 9.9 | C13: 13.6 | D13: 0.58333333 | E13: 6.9 | F13: 0 | G13: 8.4 | H13: 0 | I13: 0 | J13: 1.3 | K13: 7.2 | L13: 0.47916667 | M13: SE
A14: 3 | B14: 8.4 | C14: 10.6 | D14: 0.6875 | E14: 6.8 | F14: 0.14583333 | G14: 9.9 | H14: 0 | I14: 0 | J14: 0.4 | K14: 4 | L14: 0.5 | M14: N
A15: 4 | B15: 8.2 | C15: 12.3 | D15: 0.625 | E15: 3.2 | F15: 0.3125 | G15: 10.2 | H15: 0 | I15: 0 | J15: 0.3 | K15: 3.6 | L15: 0.60416667 | M15: SE
A16: 5 | B16: 9.8 | C16: 14.7 | D16: 0.64583333 | E16: 4.9 | F16: 0.3125 | G16: 8.5 | H16: 0 | I16: 0.2 | J16: 0.2 | K16: 3.6 | L16: 0.5625 | M16: SE
A17: 6 | B17: 5.5 | C17: 10.6 | D17: 0.020833333 | E17: 3.8 | F17: 0.3125 | G17: 12.8 | H17: 0 | I17: 1.6 | J17: 0.8 | K17: 5.4 | L17: 0.0625 | M17: N
A18: 7 | B18: 5.7 | C18: 6.6 | D18: 0 | E18: 4.7 | F18: 0.3125 | G18: 12.6 | H18: 0 | I18: 0.8 | J18: 0.2 | K18: 2.7 | L18: 0.0625 | M18: N
A19: 8 | B19: 7.3 | C19: 7.9 | D19: 0.625 | E19: 6.5 | F19: 0.020833333 | G19: 11 | H19: 0 | I19: 1 | J19: 0.3 | K19: 2.7 | L19: 0.5 | M19: SE
A20: 9 | B20: 7.4 | C20: 9.3 | D20: 0.70833333 | E20: 5.2 | F20: 0 | G20: 10.9 | H20: 0 | I20: 5.6 | J20: 0.2 | K20: 3.6 | L20: 0.95833333 | M20: SE
A21: 10 | B21: 7.4 | C21: 10.4 | D21: 0.58333333 | E21: 3.8 | F21: 0.22916667 | G21: 10.9 | H21: 0 | I21: 2.8 | J21: 1.1 | K21: 7.6 | L21: 0.91666667 | M21: SSE
A22: 11 | B22: 7.9 | C22: 10.7 | D22: 0.47916667 | E22: 5.6 | F22: 0.8125 | G22: 10.3 | H22: 0 | I22: 1.8 | J22: 0.6 | K22: 5.4 | L22: 0.041666667 | M22: SE
A23: 12 | B23: 8.7 | C23: 10.5 | D23: 0.64583333 | E23: 6.4 | F23: 0.125 | G23: 9.6 | H23: 0 | I23: 32.8 | J23: 1.9 | K23: 9.4 | L23: 0.5 | M23: SSE
... A42: 31 | B42: 12.3 | C42: 18.4 | D42: 0.60416667 | E42: 7.4 | F42: 0.041666667 | G42: 5.9 | H42: 0 | I42: 0 | J42: 0.2 | K42: 4.5 | L42: 0.625 | M42: WSW
A43: -------------------------------------------------------------------------------------
B44: 7.8 | C44: 18.4 | D44: 31 | E44: 0.2 | F44: 14 | G44: 325.2 | H44: 0 | I44: 62.7 | J44: 0.6 | K44: 9.4 | L44: 12 | M44: SE
B46: =AVERAGE(B12:B42) -> 7.7903226 | C46: =AVERAGE(C12:C42) -> 11.574194 | E46: =AVERAGE(E12:E42) -> 4.183871 | I46: =SUM(I12:I42) -> 62.8
A48: Max | B48: >= | C48: 32.0: | D48: 0
A49: Max | B49: <= | C49: 0.0: | D49: 0
A50: Min | B50: <= | C50: 0.0: | D50: 0
A51: Min | B51: <= | C51: -18.0: | D51: 0
A52: Max | B52: Rain: | C52: 32.79 | D52: ON | E52: 46093
A53: Days | B53: of | C53: Rain: | D53: 18 | E53: (> | F53: 0.2 | G53: mm) | H53: 7 | I53: (> | J53: 2 | K53: mm) | L53: 1 | M53: (> | N53: 20 | O53: mm)
A54: Heat | B54: Base: | C54: 18.3 | D54: Cool | E54: Base: | F54: 18.3 | G54: Method: | H54: Integration

Sheet Apr
B1: MONTHLY | C1: CLIMATOLOGICAL | D1: SUMMARY | E1: for | F1: APR. | G1: 2026
A3: NAME: | B3: Penallt210 | C3: CITY: | D3: Penallt | E3: STATE:
A4: ELEV: | B4: 210 | C4: m | D4: LAT: | E4: 51° | F4: 48' | G4: 00" | H4: N | I4: LONG: | J4: 2° | K4: 42' | L4: 00" | M4: W
B6: TEMPERATURE | C6: (°C), | D6: RAIN | E6: (mm), | F6: WIND | G6: SPEED | H6: (m/s)
B8: HEAT | C8: COOL | D8: AVG
B9: MEAN | C9: DEG | D9: DEG | E9: WIND | F9: DOM
A10: DAY | B10: TEMP | C10: HIGH | D10: TIME | E10: LOW | F10: TIME | G10: DAYS | H10: DAYS | I10: RAIN | J10: SPEED | K10: HIGH | L10: TIME | M10: DIR
A11: ------------------------------------------------------------------------------------
A12: 1 | B12: 9.7 | C12: 12.1 | D12: 0.625 | E12: 8 | F12: 0.29166667 | G12: 8.6 | H12: 0 | I12: 0 | J12: 0 | K12: 4.5 | L12: 0 | M12: SW
A13: 2 | B13: 7.2 | C13: 12.5 | D13: 0.66666667 | E13: 3.4 | F13: 0.29166667 | G13: 11.1 | H13: 0 | I13: 0 | J13: 0.4 | K13: 4.5 | L13: 0.91666667 | M13: SE
A14: 3 | B14: 9.7 | C14: 13.1 | D14: 0.70833333 | E14: 5.9 | F14: 0.083333333 | G14: 8.6 | H14: 0 | I14: 1.2 | J14: 0.9 | K14: 6.7 | L14: 0.22916667 | M14: SE
A15: 4 | B15: 9.4 | C15: 13.4 | D15: 0.47916667 | E15: 5.7 | F15: 0.10416667 | G15: 8.9 | H15: 0 | I15: 1.4 | J15: 1.3 | K15: 11.6 | L15: 0.9375 | M15: SSE
A16: 5 | B16: 7.3 | C16: 11.4 | D16: 0.625 | E16: 3.2 | F16: 0.97916667 | G16: 11 | H16: 0 | I16: 0 | J16: 0.5 | K16: 6.3 | L16: 0.041666667 | M16: W
A17: 6 | B17: 8 | C17: 14.8 | D17: 0.66666667 | E17: 1.1 | F17: 0.125 | G17: 10.3 | H17: 0 | I17: 0 | J17: 0.7 | K17: 5.8 | L17: 0.47916667 | M17: SE
A18: 7 | B18: 13.4 | C18: 20.9 | D18: 0.70833333 | E18: 4.6 | F18: 0.20833333 | G18: 5.2 | H18: 0.4 | I18: 0 | J18: 0.8 | K18: 6.7 | L18: 0.66666667 | M18: SE
A19: 8 | B19: 15.4 | C19: 23.2 | D19: 0.66666667 | E19: 7.9 | F19: 0.29166667 | G19: 3.8 | H19: 1 | I19: 0 | J19: 0.1 | K19: 3.1 | L19: 0.020833333 | M19: SE
A20: 9 | B20: 10.1 | C20: 13.1 | D20: 0.5625 | E20: 4.1 | F20: 0 | G20: 8.2 | H20: 0 | I20: 0 | J20: 0.3 | K20: 5.8 | L20: 0.8125 | M20: SE
A21: 10 | B21: 6.8 | C21: 10.7 | D21: 0.60416667 | E21: 3.9 | F21: 0.125 | G21: 11.5 | H21: 0 | I21: 0 | J21: 0.8 | K21: 5.4 | L21: 0.66666667 | M21: SE
A22: 11 | B22: 7.3 | C22: 10.3 | D22: 0.70833333 | E22: 4.9 | F22: 0.875 | G22: 11 | H22: 0 | I22: 6.8 | J22: 1.3 | K22: 7.6 | L22: 0.77083333 | M22: SE
A23: 12 | B23: 7.1 | C23: 10.9 | D23: 0.60416667 | E23: 2.8 | F23: 0.95833333 | G23: 11.2 | H23: 0 | I23: 8.6 | J23: 0.7 | K23: 7.6 | L23: 0.29166667 | M23: SE
... A41: 30 | B41: 14.5 | C41: 21.7 | D41: 0.6875 | E41: 7.2 | F41: 0.22916667 | G41: 4.5 | H41: 0.7 | I41: 0 | J41: 1 | K41: 7.6 | L41: 0.54166667 | M41: SE
A42: -------------------------------------------------------------------------------------
B43: 9.9 | C43: 23.2 | D43: 8 | E43: 1.1 | F43: 6 | G43: 253.1 | H43: 2.5 | I43: 39.8 | J43: 0.7 | K43: 11.6 | L43: 4 | M43: SE
B46: =AVERAGE(B12:B41) -> 9.94 | C46: =AVERAGE(C12:C41) -> 15.076667 | E46: =AVERAGE(E12:E41) -> 4.6833333 | I46: =SUM(I12:I41) -> 39.8
A48: Max | B48: >= | C48: 32.0: | D48: 0
A49: Max | B49: <= | C49: 0.0: | D49: 0
A50: Min | B50: <= | C50: 0.0: | D50: 0
A51: Min | B51: <= | C51: -18.0: | D51: 0
A52: Max | B52: Rain: | C52: 15.39 | D52: ON | E52: 46127
A53: Days | B53: of | C53: Rain: | D53: 10 | E53: (> | F53: 0.2 | G53: mm) | H53: 4 | I53: (> | J53: 2 | K53: mm) | L53: 0 | M53: (> | N53: 20 | O53: mm)
A54: Heat | B54: Base: | C54: 18.3 | D54: Cool | E54: Base: | F54: 18.3 | G54: Method: | H54: Integration

Sheet May
B1: MONTHLY | C1: CLIMATOLOGICAL | D1: SUMMARY | E1: for | F1: MAY | G1: 2026
A3: NAME: | B3: Penallt210 | C3: CITY: | D3: Penallt | E3: STATE:
A4: ELEV: | B4: 210 | C4: m | D4: LAT: | E4: 51° | F4: 48' | G4: 00" | H4: N | I4: LONG: | J4: 2° | K4: 42' | L4: 00" | M4: W
B6: TEMPERATURE | C6: (°C), | D6: RAIN | E6: (mm), | F6: WIND | G6: SPEED | H6: (m/s)
B8: HEAT | C8: COOL | D8: AVG
B9: MEAN | C9: DEG | D9: DEG | E9: WIND | F9: DOM
A10: DAY | B10: TEMP | C10: HIGH | D10: TIME | E10: LOW | F10: TIME | G10: DAYS | H10: DAYS | I10: RAIN | J10: SPEED | K10: HIGH | L10: TIME | M10: DIR
A11: ------------------------------------------------------------------------------------
A12: 1 | B12: 12.9 | C12: 18.4 | D12: 0.52083333 | E12: 8.3 | F12: 0.97916667 | G12: 5.4 | H12: 0 | I12: 2.4 | J12: 0 | K12: 2.7 | L12: 0.020833333 | M12: SE | N12: 1 | O12: 18.4 | P12: 17.5 | Q12: 26
A13: 2 | B13: 10.9 | C13: 16.7 | D13: 0.5625 | E13: 5.6 | F13: 0.27083333 | G13: 7.3 | H13: 0 | I13: 20.4 | J13: 0 | K13: 3.1 | L13: 0.875 | M13: SE | N13: 2 | O13: 16.7 | P13: 17.5 | Q13: 26
A14: 3 | B14: 11.8 | C14: 17.1 | D14: 0.58333333 | E14: 7.9 | F14: 0.20833333 | G14: 6.5 | H14: 0 | I14: 3.4 | J14: 0.1 | K14: 4 | L14: 0.60416667 | M14: N | N14: 3 | O14: 17.1 | P14: 17.5 | Q14: 26
A15: 4 | B15: 11.4 | C15: 15.1 | D15: 0.6875 | E15: 8.6 | F15: 0 | G15: 6.9 | H15: 0 | I15: 0 | J15: 0.5 | K15: 3.6 | L15: 0.58333333 | M15: N | N15: 4 | O15: 15.1 | P15: 17.5 | Q15: 26
A16: 5 | B16: 10.2 | C16: 13.8 | D16: 0.625 | E16: 7.7 | F16: 0.14583333 | G16: 8.1 | H16: 0 | I16: 0 | J16: 0.6 | K16: 6.3 | L16: 0.5 | M16: N | N16: 5 | O16: 13.8 | P16: 17.5 | Q16: 26
A17: 6 | B17: 9.7 | C17: 14.8 | D17: 0.6875 | E17: 6.3 | F17: 0.29166667 | G17: 8.6 | H17: 0 | I17: 0 | J17: 0.6 | K17: 4.9 | L17: 0.58333333 | M17: N | N17: 6 | O17: 14.8 | P17: 17.5 | Q17: 26
A18: 7 | B18: 9.9 | C18: 15 | D18: 0.52083333 | E18: 6 | F18: 0.27083333 | G18: 8.4 | H18: 0 | I18: 0 | J18: 0.3 | K18: 4.5 | L18: 0.52083333 | M18: SE | N18: 7 | O18: 15 | P18: 17.5 | Q18: 26
A19: 8 | B19: 11.7 | C19: 17.1 | D19: 0.64583333 | E19: 7.4 | F19: 0.27083333 | G19: 6.6 | H19: 0 | I19: 5.2 | J19: 0.1 | K19: 3.6 | L19: 0.79166667 | M19: SE | N19: 8 | O19: 17.1 | P19: 17.5 | Q19: 26
A20: 9 | B20: 12.7 | C20: 18.2 | D20: 0.66666667 | E20: 6.7 | F20: 0.22916667 | G20: 5.6 | H20: 0 | I20: 0.2 | J20: 0.7 | K20: 6.3 | L20: 0.8125 | M20: N | N20: 9 | O20: 18.2 | P20: 17.5 | Q20: 26
A21: 10 | B21: 9.3 | C21: 12.9 | D21: 0.6875 | E21: 6.6 | F21: 0.95833333 | G21: 9 | H21: 0 | I21: 0 | J21: 1.3 | K21: 6.7 | L21: 0.35416667 | M21: N | N21: 10 | O21: 12.9 | P21: 17.5 | Q21: 26
A22: 11 | B22: 8.1 | C22: 13.7 | D22: 0.5 | E22: 2.8 | F22: 0.125 | G22: 10.2 | H22: 0 | I22: 0 | J22: 0.4 | K22: 7.2 | L22: 0.5625 | M22: N | N22: 11 | O22: 13.7 | P22: 17.5 | Q22: 26
A23: 12 | B23: 8.8 | C23: 14.7 | D23: 0.5 | E23: 1.8 | F23: 0.1875 | G23: 9.5 | H23: 0 | I23: 0 | J23: 0.3 | K23: 5.4 | L23: 0.6875 | M23: W | N23: 12 | O23: 14.7 | P23: 17.5 | Q23: 26
... A42: 31 | B42: 15.9 | C42: 20.7 | D42: 0.625 | E42: 12.8 | F42: 0 | G42: 2.6 | H42: 0.2 | I42: 0 | J42: 0.2 | K42: 4 | L42: 0.625 | M42: SE | N42: 31 | O42: 20.7 | P42: 17.5 | Q42: 26
A43: -------------------------------------------------------------------------------------
B44: 13.4 | C44: 31.9 | D44: 26 | E44: 1.8 | F44: 12 | G44: 181.3 | H44: 28.8 | I44: 66.2 | J44: 0.4 | K44: 7.2 | L44: 11 | M44: SE
B46: =AVERAGE(B12:B42) -> 13.377419 | C46: =AVERAGE(C12:C42) -> 18.745161 | E46: =AVERAGE(E12:E42) -> 8.4451613 | I46: =SUM(I12:I42) -> 66.2
A48: Max | B48: >= | C48: 32.0: | D48: 0
A49: Max | B49: <= | C49: 0.0: | D49: 0
A50: Min | B50: <= | C50: 0.0: | D50: 0
A51: Min | B51: <= | C51: -18.0: | D51: 0
A52: Max | B52: Rain: | C52: 20.4 | D52: ON | E52: 46144
A53: Days | B53: of | C53: Rain: | D53: 13 | E53: (> | F53: 0.2 | G53: mm) | H53: 7 | I53: (> | J53: 2 | K53: mm) | L53: 1 | M53: (> | N53: 20 | O53: mm)
A54: Heat | B54: Base: | C54: 18.3 | D54: Cool | E54: Base: | F54: 18.3 | G54: Method: | H54: Integration

Sheet Jun
B1: MONTHLY | C1: CLIMATOLOGICAL | D1: SUMMARY | E1: for | F1: JUN. | G1: 2026
A3: NAME: | B3: Penallt210 | C3: CITY: | D3: Penallt | E3: STATE:
A4: ELEV: | B4: 210 | C4: m | D4: LAT: | E4: 51° | F4: 48' | G4: 00" | H4: N | I4: LONG: | J4: 2° | K4: 42' | L4: 00" | M4: W
B6: TEMPERATURE | C6: (°C), | D6: RAIN | E6: (mm), | F6: WIND | G6: SPEED | H6: (m/s)
B8: HEAT | C8: COOL | D8: AVG
B9: MEAN | C9: DEG | D9: DEG | E9: WIND | F9: DOM
A10: DAY | B10: TEMP | C10: HIGH | D10: TIME | E10: LOW | F10: TIME | G10: DAYS | H10: DAYS | I10: RAIN | J10: SPEED | K10: HIGH | L10: TIME | M10: DIR
A11: ------------------------------------------------------------------------------------
A12: 1 | B12: 14.7 | C12: 17.1 | D12: 0.6875 | E12: 12.3 | F12: 0.22916667 | G12: 3.6 | H12: 0 | I12: 19.4 | J12: 0.6 | K12: 5.4 | L12: 0.8125 | M12: SE | N12: 1 | O12: 17.1 | P12: 20.3 | Q12: 26
A13: 2 | B13: 14.8 | C13: 18.8 | D13: 0.54166667 | E13: 11.8 | F13: 0.22916667 | G13: 3.5 | H13: 0 | I13: 0.8 | J13: 0.3 | K13: 5.8 | L13: 0.625 | M13: SE | N13: 2 | O13: 18.8 | P13: 20.3 | Q13: 26
A14: 3 | B14: 13.1 | C14: 18 | D14: 0.5625 | E14: 11.3 | F14: 0.29166667 | G14: 5.2 | H14: 0 | I14: 2.6 | J14: 0.9 | K14: 6.7 | L14: 0.66666667 | M14: SE | N14: 3 | O14: 18 | P14: 20.3 | Q14: 26
A15: 4 | B15: 13 | C15: 16.8 | D15: 0.625 | E15: 10.7 | F15: 0.27083333 | G15: 5.3 | H15: 0 | I15: 8.8 | J15: 0.5 | K15: 5.8 | L15: 0.10416667 | M15: SE | N15: 4 | O15: 16.8 | P15: 20.3 | Q15: 26
A16: 5 | B16: 12.3 | C16: 16.3 | D16: 0.625 | E16: 9.1 | F16: 0.25 | G16: 6 | H16: 0 | I16: 1.6 | J16: 0.4 | K16: 4.5 | L16: 0.58333333 | M16: SE | N16: 5 | O16: 16.3 | P16: 20.3 | Q16: 26
A17: 6 | B17: 12.3 | C17: 16.7 | D17: 0.70833333 | E17: 9.6 | F17: 0.25 | G17: 6 | H17: 0 | I17: 11 | J17: 1.1 | K17: 6.7 | L17: 0.33333333 | M17: SE | N17: 6 | O17: 16.7 | P17: 20.3 | Q17: 26
A18: 7 | B18: 13.5 | C18: 17.8 | D18: 0.66666667 | E18: 10.4 | F18: 0.020833333 | G18: 4.8 | H18: 0 | I18: 3.8 | J18: 0.6 | K18: 6.3 | L18: 0.58333333 | M18: SE | N18: 7 | O18: 17.8 | P18: 20.3 | Q18: 26
A19: 8 | B19: 12.8 | C19: 17.3 | D19: 0.625 | E19: 8.4 | F19: 0 | G19: 5.5 | H19: 0 | I19: 5.8 | J19: 0.6 | K19: 5.4 | L19: 0.041666667 | M19: SE | N19: 8 | O19: 17.3 | P19: 20.3 | Q19: 26
A20: 9 | B20: 11.4 | C20: 16.3 | D20: 0.64583333 | E20: 7.7 | F20: 0.14583333 | G20: 6.8 | H20: 0 | I20: 4.4 | J20: 0.4 | K20: 6.3 | L20: 0.60416667 | M20: SE | N20: 9 | O20: 16.3 | P20: 20.3 | Q20: 26
A21: 10 | B21: 11.6 | C21: 15.6 | D21: 0.5625 | E21: 7.8 | F21: 0.20833333 | G21: 6.7 | H21: 0 | I21: 0.4 | J21: 0.2 | K21: 4 | L21: 0.75 | M21: WNW | N21: 10 | O21: 15.6 | P21: 20.3 | Q21: 26
A22: 11 | B22: 12.1 | C22: 15.8 | D22: 0.625 | E22: 8.6 | F22: 0.020833333 | G22: 6.2 | H22: 0 | I22: 9.8 | J22: 0.6 | K22: 8 | L22: 0.5625 | M22: SE | N22: 11 | O22: 15.8 | P22: 20.3 | Q22: 26
A23: 12 | B23: 15.1 | C23: 18.4 | D23: 0.5 | E23: 11.8 | F23: 0 | G23: 3.2 | H23: 0 | I23: 0.4 | J23: 0.7 | K23: 5.4 | L23: 0.8125 | M23: SE | N23: 12 | O23: 18.4 | P23: 20.3 | Q23: 26
... A41: 30 | B41: 16.2 | C41: 21.4 | D41: 0.60416667 | E41: 12.4 | F41: 0.22916667 | G41: 2.4 | H41: 0.3 | I41: 2 | J41: 0.3 | K41: 4.9 | L41: 0.54166667 | M41: SE | N41: 30 | O41: 21.4 | P41: 20.3 | Q41: 26
A42: -------------------------------------------------------------------------------------
B43: 16.8 | C43: 33.7 | D43: 25 | E43: 7.7 | F43: 9 | G43: 90.5 | H43: 45.9 | I43: 79.8 | J43: 0.5 | K43: 8 | L43: 11 | M43: SE
B46: =AVERAGE(B12:B41) -> 16.813333 | C46: =AVERAGE(C12:C41) -> 21.616667 | E46: =AVERAGE(E12:E41) -> 12.496667 | I46: =SUM(I12:I41) -> 79.8
A48: Max | B48: >= | C48: 32.0: | D48: 2
A49: Max | B49: <= | C49: 0.0: | D49: 0
A50: Min | B50: <= | C50: 0.0: | D50: 0
A51: Min | B51: <= | C51: -18.0: | D51: 0
A52: Max | B52: Rain: | C52: 19.41 | D52: ON | E52: 46174
A53: Days | B53: of | C53: Rain: | D53: 22 | E53: (> | F53: 0.2 | G53: mm) | H53: 10 | I53: (> | J53: 2 | K53: mm) | L53: 0 | M53: (> | N53: 20 | O53: mm)
A54: Heat | B54: Base: | C54: 18.3 | D54: Cool | E54: Base: | F54: 18.3 | G54: Method: | H54: Integration

Sheet Jul
B1: MONTHLY | C1: CLIMATOLOGICAL | D1: SUMMARY | E1: for | F1: JUL. | G1: 2026
A3: NAME: | B3: Penallt210 | C3: CITY: | D3: Penallt | E3: STATE:
A4: ELEV: | B4: 210 | C4: m | D4: LAT: | E4: 51° | F4: 48' | G4: 00" | H4: N | I4: LONG: | J4: 2° | K4: 42' | L4: 00" | M4: W
B6: TEMPERATURE | C6: (°C), | D6: RAIN | E6: (mm), | F6: WIND | G6: SPEED | H6: (m/s)
B8: HEAT | C8: COOL | D8: AVG
B9: MEAN | C9: DEG | D9: DEG | E9: WIND | F9: DOM
A10: DAY | B10: TEMP | C10: HIGH | D10: TIME | E10: LOW | F10: TIME | G10: DAYS | H10: DAYS | I10: RAIN | J10: SPEED | K10: HIGH | L10: TIME | M10: DIR
A11: ------------------------------------------------------------------------------------
A12: 1 | B12: 17.1 | C12: 22.2 | D12: 0.64583333 | E12: 12.1 | F12: 0.14583333 | G12: 2.2 | H12: 1.1 | I12: 0.2 | J12: 0.4 | K12: 4 | L12: 0.72916667 | M12: SE | N12: 1 | O12: 22.2 | P12: 22.3 | Q12: 26
A13: 2 | B13: 17.7 | C13: 21.6 | D13: 0.66666667 | E13: 13.1 | F13: 0 | G13: 1.4 | H13: 0.8 | I13: 0 | J13: 0.6 | K13: 5.4 | L13: 0.4375 | M13: NNE | N13: 2 | O13: 21.6 | P13: 22.3 | Q13: 26
A14: 3 | B14: 17.2 | C14: 23.7 | D14: 0.66666667 | E14: 9.1 | F14: 0.16666667 | G14: 2.7 | H14: 1.6 | I14: 0 | J14: 0.3 | K14: 4.5 | L14: 0.66666667 | M14: SE | N14: 3 | O14: 23.7 | P14: 22.3 | Q14: 26
A15: 4 | B15: 18.6 | C15: 24.7 | D15: 0.625 | E15: 12.8 | F15: 0.083333333 | G15: 1.7 | H15: 2 | I15: 0 | J15: 0.3 | K15: 3.6 | L15: 0.45833333 | M15: WNW | N15: 4 | O15: 24.7 | P15: 22.3 | Q15: 26
A16: 5 | B16: 19.4 | C16: 26.3 | D16: 0.60416667 | E16: 14 | F16: 0.0625 | G16: 1.3 | H16: 2.5 | I16: 0 | J16: 0.1 | K16: 3.1 | L16: 0.72916667 | M16: WNW | N16: 5 | O16: 26.3 | P16: 22.3 | Q16: 26
A17: 6 | B17: 20.7 | C17: 27.3 | D17: 0.66666667 | E17: 14.6 | F17: 0.16666667 | G17: 0.9 | H17: 3.3 | I17: 0 | J17: 0.2 | K17: 3.6 | L17: 0.60416667 | M17: SE | N17: 6 | O17: 27.3 | P17: 22.3 | Q17: 26
A18: 7 | B18: 21.2 | C18: 28.2 | D18: 0.64583333 | E18: 14.4 | F18: 0.1875 | G18: 1 | H18: 3.9 | I18: 0 | J18: 0.2 | K18: 3.1 | L18: 0.85416667 | M18: SE | N18: 7 | O18: 28.2 | P18: 22.3 | Q18: 26
A19: 8 | B19: 22.9 | C19: 30.4 | D19: 0.72916667 | E19: 13.8 | F19: 0.20833333 | G19: 0.9 | H19: 5.5 | I19: 0 | J19: 0.1 | K19: 2.2 | L19: 0.41666667 | M19: SE | N19: 8 | O19: 30.4 | P19: 22.3 | Q19: 26
A20: 9 | B20: 23.9 | C20: 31.6 | D20: 0.64583333 | E20: 16.2 | F20: 0.25 | G20: 0.4 | H20: 6 | I20: 0 | J20: 0.1 | K20: 2.7 | L20: 0.58333333 | M20: SE | N20: 9 | O20: 31.6 | P20: 22.3 | Q20: 26
A21: 10 | B21: 25.4 | C21: 33.4 | D21: 0.66666667 | E21: 18.3 | F21: 0.20833333 | G21: 0 | H21: 7.2 | I21: 0 | J21: 0.4 | K21: 3.6 | L21: 0.625 | M21: SE | N21: 10 | O21: 33.4 | P21: 22.3 | Q21: 26
A22: 11 | B22: 23.6 | C22: 30.2 | D22: 0.6875 | E22: 16.4 | F22: 0.22916667 | G22: 0.1 | H22: 5.4 | I22: 0 | J22: 0.8 | K22: 5.8 | L22: 0.625 | M22: N | N22: 11 | O22: 30.2 | P22: 22.3 | Q22: 26
A23: 12 | B23: 21.6 | C23: 28.7 | D23: 0.72916667 | E23: 15.7 | F23: 0.125 | G23: 0.6 | H23: 3.9 | I23: 0 | J23: 1.8 | K23: 7.6 | L23: 0.39583333 | M23: N | N23: 12 | O23: 28.7 | P23: 22.3 | Q23: 26
... A42: 31 | B42: 16.7 | C42: 23.3 | D42: 0.625 | E42: 9.4 | F42: 0.25 | G42: 2.8 | H42: 1.2 | I42: 0 | J42: 0.2 | K42: 4 | L42: 0.625 | M42: N | N42: 31 | O42: 23.3 | P42: 22.3 | Q42: 26
A43: -------------------------------------------------------------------------------------
B44: 19.8 | C44: 33.4 | D44: 10 | E44: 9.1 | F44: 3 | G44: 40.2 | H44: 85.8 | I44: 1.6 | J44: 0.5 | K44: 9.8 | L44: 13 | M44: N
B46: =AVERAGE(B12:B42) -> 19.774194 | C46: =AVERAGE(C12:C42) -> 26.248387 | E46: =AVERAGE(E12:E42) -> 13.522581 | I46: =SUM(I12:I42) -> 1.6
A48: Max | B48: <= | C48: 0.0: | D48: 0
A49: Min | B49: <= | C49: 0.0: | D49: 0
A50: Min | B50: <= | C50: -18.0: | D50: 0
A51: Max | B51: Rain: | C51: 1.4 | D51: ON | E51: 46229
A52: Days | B52: of | C52: Rain: | D52: 2 | E52: (> | F52: 0.2 | G52: mm) | H52: 0 | I52: (> | J52: 2 | K52: mm) | L52: 0 | M52: (> | N52: 20 | O52: mm)
A53: Heat | B53: Base: | C53: 18.3 | D53: Cool | E53: Base: | F53: 18.3 | G53: Method: | H53: Integration

Sheet Aug
B1: MONTHLY | C1: CLIMATOLOGICAL | D1: SUMMARY | E1: for | F1: AUG. | G1: 2026
A3: NAME: | B3: Penallt210 | C3: CITY: | D3: Penallt | E3: STATE:
A4: ELEV: | B4: 210 | C4: m | D4: LAT: | E4: 51° | F4: 48' | G4: 00" | H4: N | I4: LONG: | J4: 2° | K4: 42' | L4: 00" | M4: W
B6: TEMPERATURE | C6: (°C), | D6: RAIN | E6: (mm), | F6: WIND | G6: SPEED | H6: (m/s)
B8: HEAT | C8: COOL | D8: AVG
B9: MEAN | C9: DEG | D9: DEG | E9: WIND | F9: DOM
A10: DAY | B10: TEMP | C10: HIGH | D10: TIME | E10: LOW | F10: TIME | G10: DAYS | H10: DAYS | I10: RAIN | J10: SPEED | K10: HIGH | L10: TIME | M10: DIR
A11: ------------------------------------------------------------------------------------
A12: 1 | B12: 16.8 | C12: 23.6 | D12: 0.6875 | E12: 9.3 | F12: 0.27083333 | G12: 2.8 | H12: 1.3 | I12: 0 | J12: 0.2 | K12: 4 | L12: 0.70833333 | M12: SE
A13: 2 | B13: 18.2 | C13: 26.3 | D13: 0.75 | E13: 10 | F13: 0.25 | G13: 2.5 | H13: 2.4 | I13: 0 | J13: 0.3 | K13: 4.9 | L13: 0.58333333 | M13: N
A14: 3 | B14: 21.6 | C14: 29.4 | D14: 0.66666667 | E14: 12.9 | F14: 0.27083333 | G14: 1.2 | H14: 4.5 | I14: 0 | J14: 0.2 | K14: 3.6 | L14: 0.5625 | M14: SE
A15: 4 | B15: 19.7 | C15: 24.9 | D15: 0.58333333 | E15: 16.2 | F15: 0.1875 | G15: 0.3 | H15: 1.7 | I15: 0.8 | J15: 0.5 | K15: 4.9 | L15: 0.47916667 | M15: SE
A16: 5 | B16: 17.4 | C16: 22.2 | D16: 0.66666667 | E16: 12.1 | F16: 0 | G16: 1.6 | H16: 0.7 | I16: 0.8 | J16: 0.4 | K16: 5.8 | L16: 0.54166667 | M16: SE
A17: 6 | B17: 15.2 | C17: 20.9 | D17: 0.72916667 | E17: 9.8 | F17: 0.20833333 | G17: 3.4 | H17: 0.3 | I17: 0 | J17: 0.2 | K17: 4 | L17: 0.41666667 | M17: SE
A18: 7 | B18: 15.8 | C18: 23.8 | D18: 0.72916667 | E18: 6.9 | F18: 0.25 | G18: 3.8 | H18: 1.3 | I18: 0 | J18: 0.2 | K18: 3.1 | L18: 0.54166667 | M18: SE
A19: 8 | B19: 18 | C19: 26.2 | D19: 0.625 | E19: 9.8 | F19: 0.27083333 | G19: 2.5 | H19: 2.2 | I19: 0 | J19: 0.3 | K19: 4 | L19: 0.6875 | M19: SE
A20: 9 | B20: 21.3 | C20: 28.7 | D20: 0.64583333 | E20: 14.4 | F20: 0.20833333 | G20: 0.9 | H20: 3.9 | I20: 0 | J20: 0.3 | K20: 4.5 | L20: 0.58333333 | M20: SE
A21: 10 | B21: 18 | C21: 23.5 | D21: 0.6875 | E21: 13.6 | F21: 0.22916667 | G21: 1.6 | H21: 1.3 | I21: 0 | J21: 0.4 | K21: 4.5 | L21: 0.375 | M21: N
A22: 11 | B22: 20.6 | C22: 27.8 | D22: 0.6875 | E22: 12.1 | F22: 0.16666667 | G22: 1.3 | H22: 3.5 | I22: 0 | J22: 0.4 | K22: 4.5 | L22: 0.58333333 | M22: SE
A23: 12 | B23: 23.4 | C23: 33.4 | D23: 0.70833333 | E23: 13.4 | F23: 0.27083333 | G23: 0.8 | H23: 6 | I23: 0 | J23: 0.3 | K23: 4 | L23: 0.64583333 | M23: SE
... A42: 31 | B42: 14.7 | C42: 20.2 | D42: 0.5625 | E42: 11.3 | F42: 0.16666667 | G42: 3.7 | H42: 0.2 | I42: 4.8 | J42: 0.3 | K42: 4 | L42: 0.52083333 | M42: SSE
A43: -------------------------------------------------------------------------------------
B44: 18.2 | C44: 34.7 | D44: 13 | E44: 6.9 | F44: 7 | G44: 62.1 | H44: 59.5 | I44: 79.6 | J44: 0.4 | K44: 10.3 | L44: 30 | M44: SE
B46: =AVERAGE(B12:B42) -> 18.209677 | C46: =AVERAGE(C12:C42) -> 24.577419 | E46: =AVERAGE(E12:E42) -> 12.532258 | I46: =SUM(I12:I42) -> 79.6
A49: Max | B49: >= | C49: 32.0: | D49: 2
A50: Max | B50: <= | C50: 0.0: | D50: 0
A51: Min | B51: <= | C51: 0.0: | D51: 0
A52: Min | B52: <= | C52: -18.0: | D52: 0
A53: Max | B53: Rain: | C53: 31.8 | D53: ON | E53: 46261
A54: Days | B54: of | C54: Rain: | D54: 10 | E54: (> | F54: 0.2 | G54: mm) | H54: 6 | I54: (> | J54: 2 | K54: mm) | L54: 1 | M54: (> | N54: 20 | O54: mm)
A55: Heat | B55: Base: | C55: 18.3 | D55: Cool | E55: Base: | F55: 18.3 | G55: Method: | H55: Integration

Sheet Sept
B1: MONTHLY | C1: CLIMATOLOGICAL | D1: SUMMARY | E1: for | F1: SEP. | G1: 2026
A3: NAME: | B3: Penallt210 | C3: CITY: | D3: Penallt | E3: STATE:
A4: ELEV: | B4: 210 | C4: m | D4: LAT: | E4: 51° | F4: 48' | G4: 00" | H4: N | I4: LONG: | J4: 2° | K4: 42' | L4: 00" | M4: W
B6: TEMPERATURE | C6: (°C), | D6: RAIN | E6: (mm), | F6: WIND | G6: SPEED | H6: (m/s)
B8: HEAT | C8: COOL | D8: AVG
B9: MEAN | C9: DEG | D9: DEG | E9: WIND | F9: DOM
A10: DAY | B10: TEMP | C10: HIGH | D10: TIME | E10: LOW | F10: TIME | G10: DAYS | H10: DAYS | I10: RAIN | J10: SPEED | K10: HIGH | L10: TIME | M10: DIR
A11: ------------------------------------------------------------------------------------
A12: 1 | B12: 14.9 | C12: 20.3 | D12: 0.58333333 | E12: 8.9 | F12: 0.22916667 | G12: 3.6 | H12: 0.2 | I12: 0 | J12: 0.2 | K12: 3.6 | L12: 0.58333333 | M12: SE
A13: 2 | B13: 16.2 | C13: 18.7 | D13: 0.75 | E13: 14.2 | F13: 0.020833333 | G13: 2.2 | H13: 0 | I13: 3.6 | J13: 0.6 | K13: 5.8 | L13: 0.9375 | M13: SE
A14: 3 | B14: 18.5 | C14: 22.5 | D14: 0.58333333 | E14: 16.4 | F14: 0.25 | G14: 0.7 | H14: 0.9 | I14: 0 | J14: 0.7 | K14: 6.7 | L14: 0.97916667 | M14: SE
A15: 4 | B15: 16.2 | C15: 18.4 | D15: 0.14583333 | E15: 12.1 | F15: 0.97916667 | G15: 2.1 | H15: 0 | I15: 4.4 | J15: 0.7 | K15: 7.2 | L15: 0.16666667 | M15: SE
A16: 5 | B16: 14.9 | C16: 20.6 | D16: 0.70833333 | E16: 10.4 | F16: 0.29166667 | G16: 3.7 | H16: 0.3 | I16: 0 | J16: 0.2 | K16: 3.6 | L16: 0.52083333 | M16: SE
A17: 6 | B17: 17.9 | C17: 24.9 | D17: 0.64583333 | E17: 11.8 | F17: 0.020833333 | G17: 2 | H17: 1.7 | I17: 1.2 | J17: 0.6 | K17: 5.4 | L17: 0.625 | M17: SE
A18: 7 | B18: 17.1 | C18: 19.9 | D18: 0.45833333 | E18: 14.2 | F18: 0 | G18: 1.4 | H18: 0.2 | I18: 1.2 | J18: 0.4 | K18: 4.5 | L18: 0.72916667 | M18: SE
A19: 8 | B19: 13.7 | C19: 16.8 | D19: 0.6875 | E19: 11.3 | F19: 0 | G19: 4.6 | H19: 0 | I19: 6.6 | J19: 0.4 | K19: 4.9 | L19: 0.083333333 | M19: SE
A20: 9 | B20: 13.6 | C20: 17.9 | D20: 0.70833333 | E20: 9.6 | F20: 0 | G20: 4.7 | H20: 0 | I20: 0 | J20: 0.1 | K20: 4 | L20: 0.125 | M20: N
A21: 10 | B21: 13.2 | C21: 17.1 | D21: 0.60416667 | E21: 7.9 | F21: 0.125 | G21: 5.1 | H21: 0 | I21: 1.8 | J21: 0.6 | K21: 6.3 | L21: 0.6875 | M21: SE
A22: 11 | B22: 15.4 | C22: 20.1 | D22: 0.60416667 | E22: 9.8 | F22: 0 | G22: 3.1 | H22: 0.2 | I22: 0.2 | J22: 0.1 | K22: 3.1 | L22: 0.45833333 | M22: SE
A23: 12 | B23: 15.2 | C23: 19.5 | D23: 0.64583333 | E23: 9.2 | F23: 0.10416667 | G23: 3.2 | H23: 0.1 | I23: 2.2 | J23: 0.6 | K23: 7.2 | L23: 0.625 | M23: SE
... A41: 30 | B41: 16.3 | C41: 19.1 | D41: 0.54166667 | E41: 12.9 | F41: 0.9375 | G41: 2.1 | H41: 0.1 | I41: 16.2 | J41: 0.9 | K41: 6.3 | L41: 0.45833333 | M41: SE
A42: -------------------------------------------------------------------------------------
B43: 15.2 | C43: 24.9 | D43: 6 | E43: 7.1 | F43: 24 | G43: 99.7 | H43: 7.6 | I43: 48 | J43: 0.4 | K43: 8 | L43: 18 | M43: SE
B46: =AVERAGE(B12:B41) -> 15.22 | C46: =AVERAGE(C12:C41) -> 19.516667 | E46: =AVERAGE(E12:E41) -> 10.973333 | I46: =SUM(I12:I41) -> 48
A48: Max | B48: >= | C48: 32.0: | D48: 0
A49: Max | B49: <= | C49: 0.0: | D49: 0
A50: Min | B50: <= | C50: 0.0: | D50: 0
A51: Min | B51: <= | C51: -18.0: | D51: 0
A52: Max | B52: Rain: | C52: 16.21 | D52: ON | E52: 46295
A53: Days | B53: of | C53: Rain: | D53: 18 | E53: (> | F53: 0.2 | G53: mm) | H53: 7 | I53: (> | J53: 2 | K53: mm) | L53: 0 | M53: (> | N53: 20 | O53: mm)
A54: Heat | B54: Base: | C54: 18.3 | D54: Cool | E54: Base: | F54: 18.3 | G54: Method: | H54: Integration

Sheet Oct

Sheet Nov

Sheet Dec

Sheet Summary
A1: Month | B1: Penallt mean max | C1: Usk mean max | D1: Penallt mean min | E1: Usk mean min | G1: Month | H1: Penallt rainfall/mm | I1: mean Usk rainfall/mm
A2: January | B2: =Jan!C$46 -> 6.3612903 | C2: 8.1 | D2: =Jan!E46 -> 2 | E2: 1.4 | G2: January | H2: =Jan!I46 -> 239 | I2: 127.6 | J2: =H2/I2 -> 1.8730408
A3: February | B3: =Feb!C$46 -> 8.7964286 | C3: 8.5 | D3: =Feb!E46 -> 4.3678571 | E3: 1.1 | G3: February | H3: =Feb!I46 -> 214.8 | I3: 87.4 | J3: =H3/I3 -> 2.4576659
A4: March | B4: =Mar!C$46 -> 11.574194 | C4: 11.1 | D4: =Mar!E46 -> 4.183871 | E4: 2.8 | G4: March | H4: =Mar!I46 -> 62.8 | I4: 83.1 | J4: =H4/I4 -> 0.755716
A5: April | B5: =Apr!C$46 -> 15.076667 | C5: 14 | D5: =Apr!E46 -> 4.6833333 | E5: 3.8 | G5: April | H5: =Apr!I46 -> 39.8 | I5: 67.5 | J5: =H5/I5 -> 0.58962963
A6: May | B6: =May!C$46 -> 18.745161 | C6: 17.5 | D6: =May!E46 -> 8.4451613 | E6: 6.7 | G6: May | H6: =May!I46 -> 66.2 | I6: 71.5 | J6: =H6/I6 -> 0.92587413
A7: June | B7: =Jun!C$46 -> 21.616667 | C7: 20.3 | D7: =Jun!E46 -> 12.496667 | E7: 9.5 | G7: June | H7: =Jun!I46 -> 79.8 | I7: 60.2 | J7: =H7/I7 -> 1.3255814
A8: July | B8: =Jul!C$46 -> 26.248387 | C8: 22.3 | D8: =Jul!E46 -> 13.522581 | E8: 11.5 | G8: July | H8: =Jul!I46 -> 1.6 | I8: 62.6 | J8: =H8/I8 -> 0.025559105
A9: August | B9: =Aug!C$46 -> 24.577419 | C9: 22.1 | D9: =Aug!E46 -> 12.532258 | E9: 11.2 | G9: August | H9: =Aug!I46 -> 79.6 | I9: 73.9 | J9: =H9/I9 -> 1.0771313
A10: September | B10: =Sept!C$46 -> 19.516667 | C10: 19.2 | D10: =Sept!E46 -> 10.973333 | E10: 9.1 | G10: September | H10: =Sept!I46 -> 48 | I10: 81.2 | J10: =H10/I10 -> 0.591133
A11: October | B11: =Oct!C$46 -> 0 | C11: 15 | D11: =Oct!E46 -> 0 | E11: 6.4 | G11: October | H11: =Oct!I46 -> 0 | I11: 126.3 | J11: =H11/I11 -> 0
A12: November | B12: =Nov!C$46 -> 0 | C12: 11 | D12: =Nov!E46 -> 0 | E12: 3.6 | G12: November | H12: =Nov!I46 -> 0 | I12: 113.7 | J12: =H12/I12 -> 0
A13: December | B13: =Dec!C$46 -> 0 | C13: 8.4 | D13: =Dec!E46 -> 0 | E13: 1.6 | G13: December | H13: =Dec!I46 -> 0 | I13: 121.9 | J13: =H13/I13 -> 0
B15: =AVERAGE(B2:B13) -> 12.709407 | C15: =AVERAGE(C2:C13) -> 14.791667 | D15: =AVERAGE(D2:D13) -> 6.1004218 | E15: =AVERAGE(E2:E13) -> 5.725 | G15: total | H15: =SUM(H2:H13) -> 831.6 | I15: 1076.9 | J15: =H15/I15 -> 0.77221655

Sheet year data
A1: DAY | B1: TEMP | C1: HIGH | D1: TIME | E1: LOW | F1: TIME | G1: DAYS | H1: DAYS | I1: RAIN | J1: SPEED | K1: HIGH | L1: TIME | M1: DIR | N1: MONTH | O1: <-2?
A2: 1 | B2: 3.4 | C2: 5.9 | D2: 0.5625 | E2: 1 | F2: 0.020833333 | G2: 14.9 | H2: 0 | I2: 0 | J2: 0.4 | K2: 5.8 | L2: 0.125 | M2: SE | N2: JAN | O2: =IF(E2<-2,"yes","")
A3: 2 | B3: 1.6 | C3: 3.9 | D3: 0.1875 | E3: -0.3 | F3: 0.8125 | G3: 16.7 | H3: 0 | I3: 2 | J3: 0.2 | K3: 4.9 | L3: 0.20833333 | M3: N | O3: =IF(E3<-2,"yes","")
A4: 3 | B4: 0.4 | C4: 2.4 | D4: 0.54166667 | E4: -2.3 | F4: 0 | G4: 17.9 | H4: 0 | I4: 0 | J4: 0.2 | K4: 5.8 | L4: 0.16666667 | M4: N | O4: =IF(E4<-2,"yes","") -> yes
A5: 4 | B5: -0.9 | C5: 2.8 | D5: 0.58333333 | E5: -3.5 | F5: 0.29166667 | G5: 19.2 | H5: 0 | I5: 0 | J5: 0 | K5: 1.8 | L5: 0.5625 | M5: SW | O5: =IF(E5<-2,"yes","") -> yes
A6: 5 | B6: -1.1 | C6: 1.3 | D6: 0.5625 | E6: -2.9 | F6: 0.29166667 | G6: 19.3 | H6: 0 | I6: 0 | J6: 0 | K6: 4.9 | L6: 0.66666667 | M6: W | O6: =IF(E6<-2,"yes","") -> yes
A7: 6 | B7: 1.4 | C7: 4.8 | D7: 0.5625 | E7: -3.2 | F7: 0.0625 | G7: 16.9 | H7: 0 | I7: 2.8 | J7: 0.4 | K7: 5.4 | L7: 0.72916667 | M7: SE | O7: =IF(E7<-2,"yes","") -> yes
A8: 7 | B8: 3.4 | C8: 5.2 | D8: 0.5 | E8: 1.9 | F8: 0.25 | G8: 14.8 | H8: 0 | I8: 0.8 | J8: 0.3 | K8: 4 | L8: 0.39583333 | M8: NW | O8: =IF(E8<-2,"yes","")
A9: 8 | B9: 2.8 | C9: 4.7 | D9: 0.47916667 | E9: -0.1 | F9: 0 | G9: 15.4 | H9: 0 | I9: 23.2 | J9: 0.7 | K9: 8.9 | L9: 0.97916667 | M9: N | O9: =IF(E9<-2,"yes","")
A10: 9 | B10: 2.2 | C10: 4 | D10: 0.5625 | E10: -0.1 | F10: 0.020833333 | G10: 16.1 | H10: 0 | I10: 6 | J10: 0.6 | K10: 7.6 | L10: 0.29166667 | M10: NW | O10: =IF(E10<-2,"yes","")
A11: 10 | B11: 1.1 | C11: 3.7 | D11: 0.54166667 | E11: -1.3 | F11: 0.375 | G11: 17.2 | H11: 0 | I11: 0 | J11: 0 | K11: 1.8 | L11: 0.5 | M11: SSW | O11: =IF(E11<-2,"yes","")
A12: 11 | B12: 6.2 | C12: 10.6 | D12: 0.875 | E12: 1.2 | F12: 0.041666667 | G12: 12.1 | H12: 0 | I12: 19.6 | J12: 2 | K12: 11.2 | L12: 0.75 | M12: SE | O12: =IF(E12<-2,"yes","")
A13: 12 | B13: 8.6 | C13: 9.6 | D13: 0.54166667 | E13: 7.2 | F13: 0 | G13: 9.8 | H13: 0 | I13: 2.8 | J13: 0.9 | K13: 7.2 | L13: 0.25 | M13: SE | O13: =IF(E13<-2,"yes","")
A14: 13 | B14: 6.5 | C14: 9.3 | D14: 0.5625 | E14: 0.9 | F14: 0.97916667 | G14: 11.8 | H14: 0 | I14: 6 | J14: 0.4 | K14: 5.8 | L14: 0.47916667 | M14: SE | O14: =IF(E14<-2,"yes","")
... A32: 31 | B32: 5.8 | C32: 8.2 | D32: 0.58333333 | E32: 4.6 | F32: 0.89583333 | G32: 12.5 | H32: 0 | I32: 4.2 | J32: 0.7 | K32: 7.6 | L32: 0.083333333 | M32: SE | O32: =IF(E32<-2,"yes","")
A33: 1 | B33: 5.9 | C33: 7.7 | D33: 0.47916667 | E33: 4.7 | F33: 0.8125 | G33: 12.3 | H33: 0 | I33: 2.8 | J33: 0 | K33: 2.2 | L33: 0.6875 | M33: SE | N33: FEB | O33: =IF(E33<-2,"yes","")
A34: 2 | B34: 5.7 | C34: 6.6 | D34: 0.60416667 | E34: 4.6 | F34: 0.27083333 | G34: 12.6 | H34: 0 | I34: 0.2 | J34: 0.8 | K34: 7.6 | L34: 0.64583333 | M34: N | O34: =IF(E34<-2,"yes","")
A35: 3 | B35: 3.1 | C35: 5 | D35: 0.020833333 | E35: 1.2 | F35: 0.89583333 | G35: 15.2 | H35: 0 | I35: 12.4 | J35: 0.9 | K35: 6.7 | L35: 0.020833333 | M35: N | O35: =IF(E35<-2,"yes","")
A36: 4 | B36: 5.1 | C36: 8.1 | D36: 0.58333333 | E36: 1.2 | F36: 0.0625 | G36: 13.3 | H36: 0 | I36: 0.4 | J36: 0.7 | K36: 8 | L36: 0.95833333 | M36: NNW | O36: =IF(E36<-2,"yes","")
A37: 5 | B37: 5.9 | C37: 6.6 | D37: 0.89583333 | E37: 4.9 | F37: 0.27083333 | G37: 12.4 | H37: 0 | I37: 24.2 | J37: 1.2 | K37: 8 | L37: 0.22916667 | M37: NNW | O37: =IF(E37<-2,"yes","")
A38: 6 | B38: 7.2 | C38: 8.3 | D38: 0.60416667 | E38: 6.2 | F38: 0 | G38: 11.1 | H38: 0 | I38: 19 | J38: 0.2 | K38: 4.5 | L38: 0.16666667 | M38: SE | O38: =IF(E38<-2,"yes","")
A39: 7 | B39: 7.4 | C39: 8.9 | D39: 0.60416667 | E39: 5.9 | F39: 0.083333333 | G39: 10.9 | H39: 0 | I39: 23.8 | J39: 1 | K39: 5.8 | L39: 0.8125 | M39: SE | O39: =IF(E39<-2,"yes","")
A40: 8 | B40: 6.9 | C40: 8.4 | D40: 0.52083333 | E40: 5.9 | F40: 0.25 | G40: 11.4 | H40: 0 | I40: 1.4 | J40: 0.7 | K40: 4.5 | L40: 0.083333333 | M40: SE | O40: =IF(E40<-2,"yes","")
A41: 9 | B41: 7.2 | C41: 8.5 | D41: 0.625 | E41: 6.3 | F41: 0.91666667 | G41: 11.1 | H41: 0 | I41: 8.4 | J41: 1.2 | K41: 7.6 | L41: 0.72916667 | M41: SE | O41: =IF(E41<-2,"yes","")
A42: 10 | B42: 7.8 | C42: 9.2 | D42: 0.9375 | E42: 6.6 | F42: 0.020833333 | G42: 10.5 | H42: 0 | I42: 7.4 | J42: 0.4 | K42: 4 | L42: 0.27083333 | M42: SE | O42: =IF(E42<-2,"yes","")
A43: 11 | B43: 8.3 | C43: 10.6 | D43: 0.625 | E43: 4.4 | F43: 0.95833333 | G43: 10 | H43: 0 | I43: 1.6 | J43: 0.3 | K43: 6.3 | L43: 0.52083333 | M43: SE | O43: =IF(E43<-2,"yes","")
A44: 12 | B44: 6.8 | C44: 8.7 | D44: 0.625 | E44: 4.3 | F44: 0.041666667 | G44: 11.5 | H44: 0 | I44: 7 | J44: 0.1 | K44: 4.5 | L44: 0.5625 | M44: SE | O44: =IF(E44<-2,"yes","")
A45: 13 | B45: 4 | C45: 6.4 | D45: 0.020833333 | E45: 1.6 | F45: 0.8125 | G45: 14.3 | H45: 0 | I45: 22.4 | J45: 1.1 | K45: 8.5 | L45: 0.89583333 | M45: N | O45: =IF(E45<-2,"yes","")
... A60: 28 | B60: 6.1 | C60: 9.7 | D60: 0.52083333 | E60: 4.2 | F60: 0.8125 | G60: 12.2 | H60: 0 | I60: 0.4 | J60: 0.4 | K60: 5.4 | L60: 0.0625 | M60: SE | O60: =IF(E60<-2,"yes","")
A61: 1 | B61: 8.8 | C61: 11.9 | D61: 0.5625 | E61: 5.4 | F61: 0.020833333 | G61: 9.5 | H61: 0 | I61: 3.4 | J61: 1.5 | K61: 8 | L61: 0.77083333 | M61: SE | N61: MAR | O61: =IF(E61<-2,"yes","")
A62: 2 | B62: 9.9 | C62: 13.6 | D62: 0.58333333 | E62: 6.9 | F62: 0 | G62: 8.4 | H62: 0 | I62: 0 | J62: 1.3 | K62: 7.2 | L62: 0.47916667 | M62: SE | O62: =IF(E62<-2,"yes","")
A63: 3 | B63: 8.4 | C63: 10.6 | D63: 0.6875 | E63: 6.8 | F63: 0.14583333 | G63: 9.9 | H63: 0 | I63: 0 | J63: 0.4 | K63: 4 | L63: 0.5 | M63: N | O63: =IF(E63<-2,"yes","")
A64: 4 | B64: 8.2 | C64: 12.3 | D64: 0.625 | E64: 3.2 | F64: 0.3125 | G64: 10.2 | H64: 0 | I64: 0 | J64: 0.3 | K64: 3.6 | L64: 0.60416667 | M64: SE | O64: =IF(E64<-2,"yes","")
A65: 5 | B65: 9.8 | C65: 14.7 | D65: 0.64583333 | E65: 4.9 | F65: 0.3125 | G65: 8.5 | H65: 0 | I65: 0.2 | J65: 0.2 | K65: 3.6 | L65: 0.5625 | M65: SE | O65: =IF(E65<-2,"yes","")
A66: 6 | B66: 5.5 | C66: 10.6 | D66: 0.020833333 | E66: 3.8 | F66: 0.3125 | G66: 12.8 | H66: 0 | I66: 1.6 | J66: 0.8 | K66: 5.4 | L66: 0.0625 | M66: N | O66: =IF(E66<-2,"yes","")
A67: 7 | B67: 5.7 | C67: 6.6 | D67: 0 | E67: 4.7 | F67: 0.3125 | G67: 12.6 | H67: 0 | I67: 0.8 | J67: 0.2 | K67: 2.7 | L67: 0.0625 | M67: N | O67: =IF(E67<-2,"yes","")
A68: 8 | B68: 7.3 | C68: 7.9 | D68: 0.625 | E68: 6.5 | F68: 0.020833333 | G68: 11 | H68: 0 | I68: 1 | J68: 0.3 | K68: 2.7 | L68: 0.5 | M68: SE | O68: =IF(E68<-2,"yes","")
A69: 9 | B69: 7.4 | C69: 9.3 | D69: 0.70833333 | E69: 5.2 | F69: 0 | G69: 10.9 | H69: 0 | I69: 5.6 | J69: 0.2 | K69: 3.6 | L69: 0.95833333 | M69: SE | O69: =IF(E69<-2,"yes","")
A70: 10 | B70: 7.4 | C70: 10.4 | D70: 0.58333333 | E70: 3.8 | F70: 0.22916667 | G70: 10.9 | H70: 0 | I70: 2.8 | J70: 1.1 | K70: 7.6 | L70: 0.91666667 | M70: SSE | O70: =IF(E70<-2,"yes","")
A71: 11 | B71: 7.9 | C71: 10.7 | D71: 0.47916667 | E71: 5.6 | F71: 0.8125 | G71: 10.3 | H71: 0 | I71: 1.8 | J71: 0.6 | K71: 5.4 | L71: 0.041666667 | M71: SE | O71: =IF(E71<-2,"yes","")
...

Sheet Sheet2

Sheet Sheet1
A1: Date | B1: rainfall
A2: 37043 | B2: 19.4
A3: 37408 | B3: 0.8
A4: 37773 | B4: 2.6
A5: 38139 | B5: 8.8
A6: 38504 | B6: 1.6
A7: 38869 | B7: 11
A8: 39234 | B8: 3.8
A9: 39600 | B9: 5.8
A10: 39965 | B10: 4.4
A11: 40330 | B11: 0.4
A12: 40695 | B12: 9.8
A13: 41061 | B13: 0.4
... A92: 47696 | B92: 14.8
A93: 48061 | B93: 4.8+C86B85:C93

Sheet Ross_Usk data
D1: USK | L1: ROSS
A2: Month | B2: Max. temp | C2: Min. temp | D2: Days of air frost (days) | E2: Sunshine (hours) | F2: Rainfall (mm) | G2: Days of rainfall >= 1 mm (days) | I2: Month | J2: Max. temp | K2: Min. temp | L2: Days of air frost (days) | M2: Sunshine (hours) | N2: Rainfall (mm) | O2: Days of rainfall >= 1 mm (days)
B3: (°C) | C3: (°C) | J3: (°C) | K3: (°C)
A4: Jan | B4: 8.1 | C4: 1.4 | D4: 9.8 | E4: 49.1 | F4: 127.6 | G4: 14.8 | I4: Jan | J4: 7.7 | K4: 2 | L4: 9.4 | M4: 54 | N4: 75.3 | O4: 12.1
A5: Feb | B5: 8.5 | C5: 1.1 | D5: 9.9 | E5: 73.2 | F5: 87.4 | G5: 10.5 | I5: Feb | J5: 8.1 | K5: 1.7 | L5: 9.6 | M5: 75.2 | N5: 50.6 | O5: 9.1
A6: Mar | B6: 11.1 | C6: 2.8 | D6: 5.5 | E6: 103 | F6: 83.1 | G6: 12.1 | I6: Mar | J6: 10.8 | K6: 3.4 | L6: 4.8 | M6: 113.6 | N6: 51.5 | O6: 10.2
A7: Apr | B7: 14 | C7: 3.8 | D7: 3.2 | E7: 153.1 | F7: 67.5 | G7: 10.7 | I7: Apr | J7: 13.7 | K7: 4.6 | L7: 2.7 | M7: 163.1 | N7: 53.3 | O7: 9.6
A8: May | B8: 17.5 | C8: 6.7 | D8: 0.4 | E8: 179.8 | F8: 71.5 | G8: 10.6 | I8: May | J8: 17.1 | K8: 7.6 | L8: 0.3 | M8: 195.5 | N8: 54.8 | O8: 8.9
A9: Jun | B9: 20.3 | C9: 9.5 | D9: 0 | E9: 173.6 | F9: 60.2 | G9: 8.9 | I9: Jun | J9: 20 | K9: 10.4 | L9: 0 | M9: 201.5 | N9: 52.2 | O9: 7.7
A10: Jul | B10: 22.3 | C10: 11.5 | D10: 0 | E10: 187 | F10: 62.6 | G10: 8.7 | I10: Jul | J10: 22.2 | K10: 12.5 | L10: 0 | M10: 215.2 | N10: 49.2 | O10: 8
A11: Aug | B11: 22.1 | C11: 11.2 | D11: 0 | E11: 184.7 | F11: 73.9 | G11: 9 | I11: Aug | J11: 21.7 | K11: 12.3 | L11: 0 | M11: 197.8 | N11: 58.3 | O11: 8.2
A12: Sep | B12: 19.2 | C12: 9.1 | D12: 0.1 | E12: 127.7 | F12: 81.2 | G12: 9.9 | I12: Sep | J12: 18.8 | K12: 10.1 | L12: 0 | M12: 142.6 | N12: 59.4 | O12: 9
A13: Oct | B13: 15 | C13: 6.4 | D13: 1.6 | E13: 94.8 | F13: 126.3 | G13: 13.4 | I13: Oct | J13: 14.5 | K13: 7.4 | L13: 1.6 | M13: 104.3 | N13: 81.9 | O13: 12
A14: Nov | B14: 11 | C14: 3.6 | D14: 5.2 | E14: 59.9 | F14: 113.7 | G14: 13.1 | I14: Nov | J14: 10.6 | K14: 4.3 | L14: 5 | M14: 63.4 | N14: 72.5 | O14: 11.1
A15: Dec | B15: 8.4 | C15: 1.6 | D15: 10.2 | E15: 42.2 | F15: 121.9 | G15: 12.9 | I15: Dec | J15: 7.8 | K15: 2.1 | L15: 9.8 | M15: 45 | N15: 74.7 | O15: 11
A16: Annual | B16: 14.8 | C16: 5.7 | D16: 45.9 | E16: 1427.9 | F16: 1076.9 | G16: 134.7 | I16: Annual | J16: 14.4 | K16: 6.6 | L16: 43.3 | M16: 1571.2 | N16: 733.5 | O16: 116.9
